BEGIN:VCALENDAR
VERSION:2.0
PRODID:-//wp-events-plugin.com//7.2.3.1//EN
TZID:Europe/Berlin
X-WR-TIMEZONE:Europe/Berlin
BEGIN:VEVENT
UID:14@spvgg-oedheim.de
DTSTART;TZID=Europe/Berlin:20260319T193000
DTEND;TZID=Europe/Berlin:20260319T213000
DTSTAMP:20251214T114031Z
URL:https://spvgg-oedheim.de/veranstaltungen/gesamtvorstandssitzung-2/
SUMMARY:Gesamtvorstandssitzung
DESCRIPTION:
ATTACH;FMTTYPE=image/jpeg:https://spvgg-oedheim.de/wp-content/uploads/2025
 /11/pexels-leeloothefirst-5386754.jpg
CATEGORIES:Sitzungen
END:VEVENT
BEGIN:VTIMEZONE
TZID:Europe/Berlin
X-LIC-LOCATION:Europe/Berlin
BEGIN:STANDARD
DTSTART:20251026T020000
TZOFFSETFROM:+0200
TZOFFSETTO:+0100
TZNAME:CET
END:STANDARD
END:VTIMEZONE
END:VCALENDAR