BEGIN:VCALENDAR
VERSION:2.0
PRODID:-//wp-events-plugin.com//7.2.3.1//EN
TZID:Europe/Berlin
X-WR-TIMEZONE:Europe/Berlin
BEGIN:VEVENT
UID:6@spvgg-oedheim.de
DTSTART;TZID=Europe/Berlin;VALUE=DATE:20260308
DTEND;TZID=Europe/Berlin;VALUE=DATE:20260309
DTSTAMP:20260106T164124Z
URL:https://spvgg-oedheim.de/veranstaltungen/bezirksrangliste-jugend/
SUMMARY:Bezirksrangliste Jugend
DESCRIPTION:Am 08.03.2026 findet das Bezirksranglistenturnier des Tischten
 nisbezirks Heilbronn in der Sporthalle Oedheim statt.\n\nStart ist vorauss
 ichtlich um 9:30 Uhr.\n\nVereinsinterne Anmeldung für Mädchen:\n\n[conta
 ct-form-7 id="d83fb45" title="Tischtennis Turnier-Register"]
ATTACH;FMTTYPE=image/jpeg:https://spvgg-oedheim.de/wp-content/uploads/2025
 /09/pexels-joshsorenson-976873.jpg
CATEGORIES:Tischtennis Turniere
END:VEVENT
BEGIN:VTIMEZONE
TZID:Europe/Berlin
X-LIC-LOCATION:Europe/Berlin
BEGIN:STANDARD
DTSTART:20251026T020000
TZOFFSETFROM:+0200
TZOFFSETTO:+0100
TZNAME:CET
END:STANDARD
END:VTIMEZONE
END:VCALENDAR